BEGIN:VCALENDAR
VERSION:2.0
PRODID:-// - ECPv6.8.3//NONSGML v1.0//EN
CALSCALE:GREGORIAN
METHOD:PUBLISH
X-ORIGINAL-URL:https://dallasantiwar.org
X-WR-CALDESC:Events for 
REFRESH-INTERVAL;VALUE=DURATION:PT1H
X-Robots-Tag:noindex
X-PUBLISHED-TTL:PT1H
BEGIN:VTIMEZONE
TZID:UTC
BEGIN:STANDARD
TZOFFSETFROM:+0000
TZOFFSETTO:+0000
TZNAME:UTC
DTSTART:20210101T000000
END:STANDARD
END:VTIMEZONE
BEGIN:VEVENT
DTSTART;TZID=UTC:20210718T190000
DTEND;TZID=UTC:20210718T203000
DTSTAMP:20260422T232616
CREATED:20210719T011754Z
LAST-MODIFIED:20210718T223439Z
UID:127-1626634800-1626640200@dallasantiwar.org
SUMMARY:Labor and Palestine: A Discussion
DESCRIPTION:Join us for a discussion of the relationship between labor organizing and Palestinian liberation with Dr. Rabab Abdulhadi\, professor at San Francisco State University and member of the California Faculty Association union.\n\nWhat role has labor and union organizing played in the Palestinian liberation struggle? What role have unions in the US played in that struggle? What can we do now\, as labor activists\, to support the Palestinian cause?\n\nThis event will take place via Google Meets on Sunday\, July 18 at 7 PM Central.
URL:https://dallasantiwar.org/index.php/event/labor-and-palestine-a-discussion/
LOCATION:Google Meet
END:VEVENT
END:VCALENDAR