BEGIN:VCALENDAR
VERSION:2.0
PRODID:-// - ECPv6.8.3//NONSGML v1.0//EN
CALSCALE:GREGORIAN
METHOD:PUBLISH
X-ORIGINAL-URL:https://dallasantiwar.org
X-WR-CALDESC:Events for 
REFRESH-INTERVAL;VALUE=DURATION:PT1H
X-Robots-Tag:noindex
X-PUBLISHED-TTL:PT1H
BEGIN:VTIMEZONE
TZID:UTC
BEGIN:STANDARD
TZOFFSETFROM:+0000
TZOFFSETTO:+0000
TZNAME:UTC
DTSTART:20210101T000000
END:STANDARD
END:VTIMEZONE
BEGIN:VEVENT
DTSTART;TZID=UTC:20210723T200000
DTEND;TZID=UTC:20210723T210000
DTSTAMP:20260422T232524
CREATED:20210717T004848Z
LAST-MODIFIED:20210718T050851Z
UID:109-1627070400-1627074000@dallasantiwar.org
SUMMARY:Dallas Anti-War Committee Meeting
DESCRIPTION:A LOT going on in the world\, including Biden talking about “intervention” in Cuba\, and a group of people\, including two US citizens\, murdering the president of Haiti. Come and talk about it all\, and what we can do about it.\n \nZoom link:  https://us02web.zoom.us/j/83878296810
URL:https://dallasantiwar.org/index.php/event/dallas-anti-war-committee-meeting/
LOCATION:Zoom meeting
END:VEVENT
END:VCALENDAR