BEGIN:VCALENDAR
VERSION:2.0
PRODID:-// - ECPv6.8.3//NONSGML v1.0//EN
CALSCALE:GREGORIAN
METHOD:PUBLISH
X-ORIGINAL-URL:https://dallasantiwar.org
X-WR-CALDESC:Events for 
REFRESH-INTERVAL;VALUE=DURATION:PT1H
X-Robots-Tag:noindex
X-PUBLISHED-TTL:PT1H
BEGIN:VTIMEZONE
TZID:America/Chicago
BEGIN:DAYLIGHT
TZOFFSETFROM:-0600
TZOFFSETTO:-0500
TZNAME:CDT
DTSTART:20210314T080000
END:DAYLIGHT
BEGIN:STANDARD
TZOFFSETFROM:-0500
TZOFFSETTO:-0600
TZNAME:CST
DTSTART:20211107T070000
END:STANDARD
END:VTIMEZONE
BEGIN:VEVENT
DTSTART;TZID=America/Chicago:20210725T130000
DTEND;TZID=America/Chicago:20210725T143000
DTSTAMP:20260422T232530
CREATED:20210719T224043Z
LAST-MODIFIED:20210719T224043Z
UID:155-1627218000-1627223400@dallasantiwar.org
SUMMARY:March for Marvin for Justice and Peace
DESCRIPTION:Latest march for Marvin Scott\, murdered by Collin County jailers on March 14\, 2021.
URL:https://dallasantiwar.org/index.php/event/march-for-marvin-for-justice-and-peace/
LOCATION:The Shops At Legacy\, 7801 lone star drive\, suite B150\, Plano\, TX\, United States
END:VEVENT
BEGIN:VEVENT
DTSTART;TZID=America/Chicago:20210725T160000
DTEND;TZID=America/Chicago:20210725T180000
DTSTAMP:20260422T232530
CREATED:20210719T031637Z
LAST-MODIFIED:20210721T001522Z
UID:140-1627228800-1627236000@dallasantiwar.org
SUMMARY:Filipino People’s State of the Nation Address Rally
DESCRIPTION:Every year\, on the last Monday of July\, the President of the Philippines addresses the nation and reports on the situation of the country and its people. In the last 5 years of the Duterte regime\, his State of the Nation Address (SONA) has increasingly become deceitful and farcical each succeeding year. After 5 years in office and more than 1 year into the pandemic\, the Duterte presidency has achieved:\n\n– one of the longest pandemic lockdowns in the world\n– P11.98 trillion ($240B) in foreign debt\n– GDP shrinkage by 9% (end of 2020)\n– 12 million Filipinos unemployed\n– inadequate aid to Filipinos overseas\n– full vaccination less than 4% of the population\n– 9 out of 10 farmers remain landless\n– 315 peasants and advocates killed\n– 30\,000 killed from the “war on drugs”\n\nThe Dallas-Fort Worth Metroplex hosts many corporations and institutions that bear heavy influence around the world. In the context of the Philippines\, war materiel produced by Raytheon\, Lockheed Martin\, etc. are used in the displacement and massacre of Indigenous people in the Philippines. Dallas-based AT&T heavily exploit the labor of call center workers across the country. And since 2016\, more than $550 million of our tax dollars have been sent as military aid to the Philippines enabling grave human rights abused detailed above.\n\nWe invite communities across Dallas-Fort Worth to rise up with the Filipino people demanding justice and to call for an end to the Duterte regime.
URL:https://dallasantiwar.org/index.php/event/filipino-peoples-state-of-the-nation-address-rally/
LOCATION:Belo Garden Park\, 1014 Main Street\, Dallas\, TX\, 75202\, United States
END:VEVENT
END:VCALENDAR