BEGIN:VCALENDAR
VERSION:2.0
PRODID:-// - ECPv6.8.3//NONSGML v1.0//EN
CALSCALE:GREGORIAN
METHOD:PUBLISH
X-ORIGINAL-URL:https://dallasantiwar.org
X-WR-CALDESC:Events for 
REFRESH-INTERVAL;VALUE=DURATION:PT1H
X-Robots-Tag:noindex
X-PUBLISHED-TTL:PT1H
BEGIN:VTIMEZONE
TZID:UTC
BEGIN:STANDARD
TZOFFSETFROM:+0000
TZOFFSETTO:+0000
TZNAME:UTC
DTSTART:20210101T000000
END:STANDARD
END:VTIMEZONE
BEGIN:VEVENT
DTSTART;TZID=UTC:20210729T180000
DTEND;TZID=UTC:20210729T180000
DTSTAMP:20260422T221504
CREATED:20210719T012249Z
LAST-MODIFIED:20210719T012249Z
UID:134-1627581600-1627581600@dallasantiwar.org
SUMMARY:DFW Medicare for All Rally
DESCRIPTION:Join us on Thursday\, July 29 as we demand that our elected representatives listen to the will of the people who elected them and support Medicare for All! Guest Speakers to be announced soon!\n\nCo-hosted by:\nOur Revolution North Texas\nTexas Organizing Project\nDSA North Texas\nTexas Equal Access Fund\nYALL: Young Active Labor Leaders\nDallas AFL-CIO\nSocialist Alternative North Texas\nLabor Action Group\nCollin County Young Democrats\n\nIf you are with an organization and would like to cohost. Feel free to message us or email us at northtexas@ourrevolutiontx.com.
URL:https://dallasantiwar.org/index.php/event/dfw-medicare-for-all-rally/
LOCATION:Dallas City Hall\, 1500 Marilla St\, Dallas\, Texas\, 75201\, United States
END:VEVENT
END:VCALENDAR