BEGIN:VCALENDAR
VERSION:2.0
PRODID:-// - ECPv6.8.3//NONSGML v1.0//EN
CALSCALE:GREGORIAN
METHOD:PUBLISH
X-ORIGINAL-URL:https://dallasantiwar.org
X-WR-CALDESC:Events for 
REFRESH-INTERVAL;VALUE=DURATION:PT1H
X-Robots-Tag:noindex
X-PUBLISHED-TTL:PT1H
BEGIN:VTIMEZONE
TZID:America/Chicago
BEGIN:DAYLIGHT
TZOFFSETFROM:-0600
TZOFFSETTO:-0500
TZNAME:CDT
DTSTART:20220313T080000
END:DAYLIGHT
BEGIN:STANDARD
TZOFFSETFROM:-0500
TZOFFSETTO:-0600
TZNAME:CST
DTSTART:20221106T070000
END:STANDARD
BEGIN:DAYLIGHT
TZOFFSETFROM:-0600
TZOFFSETTO:-0500
TZNAME:CDT
DTSTART:20230312T080000
END:DAYLIGHT
BEGIN:STANDARD
TZOFFSETFROM:-0500
TZOFFSETTO:-0600
TZNAME:CST
DTSTART:20231105T070000
END:STANDARD
BEGIN:DAYLIGHT
TZOFFSETFROM:-0600
TZOFFSETTO:-0500
TZNAME:CDT
DTSTART:20240310T080000
END:DAYLIGHT
BEGIN:STANDARD
TZOFFSETFROM:-0500
TZOFFSETTO:-0600
TZNAME:CST
DTSTART:20241103T070000
END:STANDARD
END:VTIMEZONE
BEGIN:VEVENT
DTSTART;TZID=America/Chicago:20220924T190000
DTEND;TZID=America/Chicago:20220924T220000
DTSTAMP:20260420T141125
CREATED:20220916T041412Z
LAST-MODIFIED:20220916T043514Z
UID:352-1664046000-1664056800@dallasantiwar.org
SUMMARY:South Of The Border Movie Event
DESCRIPTION:Hugo Chaves and other leftist leaders from across the continent\, as part of a broader movement in Latin America.  Discuss “The Pink Tide” with legendary director and interviewer Oliver Stone.  These presidents have long been vilified by the Media.  This film depicts their continued fight against US imperialism.
URL:https://dallasantiwar.org/index.php/event/south-of-the-border-movie-event/
LOCATION:Pan African Connection\, 4466 S. Marsalis Ave\, Dallas\, TX\, 75216\, United States
ATTACH;FMTTYPE=image/jpeg:https://dallasantiwar.org/wp-content/uploads/2022/09/SouthOfTheBorderDocuPoster-03-FINAL.jpg
END:VEVENT
BEGIN:VEVENT
DTSTART;TZID=America/Chicago:20221014T150000
DTEND;TZID=America/Chicago:20221014T170000
DTSTAMP:20260420T141125
CREATED:20221012T190729Z
LAST-MODIFIED:20221012T190800Z
UID:362-1665759600-1665766800@dallasantiwar.org
SUMMARY:Defuse Nuclear War Informational Picket- Dallas
DESCRIPTION:As part of Defuse Nuclear War’s national call to action\, Dallas will answer the call to join cities across the country to say NO to NUKES! Join us as we gather in front of Representative Marc Veasey’s office for an informational picket about the dire need to defuse nuclear war!\nWHEN: Friday\, October 14\, 3:00 – 5:00pm\nWHERE: Meet in front of the JP Morgan Chase Building\, 1881 Sylvan Ave in Dallas\nThe dangers of nuclear war have increased sharply this year\, but very few members of the House and Senate have risen to the occasion by speaking out or publicly urging measures to de-escalate tensions between nuclear powers and seriously revive negotiations for nuclear-weapons treaties and disarmament measures. Picket lines across the U.S. on Friday\, October 14 (the last weekday before the 60th anniversary of the start of the Cuban Missile Crisis) present an opportunity for concerned individuals and groups in every congressional district to visibly convey their concerns. In keeping with the realities of the current emergency circumstances — e.g.\, the ongoing war in Ukraine\, tensions over Taiwan\, and the overall deterioration of relations between major nuclear powers –emphasis will be on actions that the U.S. government should take now to reduce the present-day risks of nuclear war. In the House of Representatives\, we will support the People Over Pentagon Act\, H.R.8040.\nInitiated by the Nuclear Free World Committee of the Dallas Peace and Justice Center.\n*Before leaving for the event\, please check this page for updates or in case of changes/cancellations.
URL:https://dallasantiwar.org/index.php/event/defuse-nuclear-war-informational-picket-dallas/
LOCATION:JP Morgan Chase Building\, 1881 Sylvan Ave\, Dallas\, TX\, 75208\, United States
END:VEVENT
BEGIN:VEVENT
DTSTART;TZID=America/Chicago:20221020T190000
DTEND;TZID=America/Chicago:20221020T200000
DTSTAMP:20260420T141125
CREATED:20221020T040126Z
LAST-MODIFIED:20221020T040126Z
UID:370-1666292400-1666296000@dallasantiwar.org
SUMMARY:Nobel Peace Prize Nominee Jeff Halper: No Home\, No Homeland: Israel's Policy of House Demolitions!
DESCRIPTION:Join us for an online presentation and Q&A with Jeff Halper\, an Israeli-American author\, lecturer\, and political activist who has lived in Israel since 1973. He is the head of the Israeli Committee Against House Demolitions (ICAHD) and a founding member of the One Democratic State Campaign. Jeff was nominated for the Nobel Peace Prize by the American Friends Service\nCommittee (AFSC) for his work “to liberate both the Palestinian and the Israeli people\nfrom the yoke of structural violence” and “to build equality between their\npeople by recognizing and celebrating their common humanity.” Jeff’s most recent book is Decolonizing Israel\, Liberating Palestine: Zionism\, Settler Colonialism\, and the Case for One\nDemocratic State.\nJoin Zoom Meeting\nhttps://us02web.zoom.us/j/84054559276…\nMeeting ID: 840 5455 9276\nPasscode: 604787\nOne tap mobile\n+13462487799\,\,84054559276#\,\,\,\,*604787# US (Houston)\nICAHD is a recipient of Jewish Voice for Peace’s “Olive Branch Award.” Read more about ICAHD here: https://icahd.org/.\nHosted by the Dallas Peace & Justice Center; Dallas Anti-War Committee; Veterans For Peace Chapter 106\, North Texas; CODEPINK Greater Dallas; Pax Christi Dallas \nkhaled’s HOUSE in Dabash el Salami Jerusalem
URL:https://dallasantiwar.org/index.php/event/nobel-peace-prize-nominee-jeff-halper-no-home-no-homeland-israels-policy-of-house-demolitions/
LOCATION:Zoom meeting
END:VEVENT
BEGIN:VEVENT
DTSTART;TZID=America/Chicago:20221021T080000
DTEND;TZID=America/Chicago:20221021T170000
DTSTAMP:20260420T141125
CREATED:20221021T223747Z
LAST-MODIFIED:20221021T223747Z
UID:417-1666339200-1666371600@dallasantiwar.org
SUMMARY:Democracy is on the Ballot | Rally and March to the Polls
DESCRIPTION:On Sunday\, October 30th in conjunction with Souls to the Polls efforts happening across the state\, voting rights organizations and those joining the fight for democracy protection will rally at the Texas Capitol at 1pm to highlight that democracy is on the ballot this November ahead of renewed threats on our elections and imminent redistricting fights in courts and capitols across the country. After rallying\, attendees will march to the nearest polling location [route TBD].\nhttps://www.mobilize.us/commoncause/event/534004/
URL:https://dallasantiwar.org/index.php/event/democracy-is-on-the-ballot-rally-and-march-to-the-polls/
LOCATION:Texas State Capitol\, 1100 Congress Ave\, Austin\, TX\, 78701\, United States
ORGANIZER;CN="Texas Poor People's Campaign%3A A National Call for Moral Revival%2C Black Voters Matter Fund and Common Cause Texas":MAILTO:texas@poorpeoplescampaign.org
END:VEVENT
BEGIN:VEVENT
DTSTART;TZID=America/Chicago:20221021T090000
DTEND;TZID=America/Chicago:20221105T150000
DTSTAMP:20260420T141125
CREATED:20221021T203413Z
LAST-MODIFIED:20221021T203413Z
UID:385-1666342800-1667660400@dallasantiwar.org
SUMMARY:For Oak Cliff's Farmers Market
DESCRIPTION:Welcome to FOC’s Farmer’s Market! Happening every first Saturday of each month from 9am – 3pm!\nOur farmers market aims to provide economic opportunity for socially disadvantaged local farmers and improve access to fresh produce and nutritious food for disproportionately impacted communities.\nEligible members of our community can sign up for SNAP and WIC at the markets. If they already have these benefits\, they will be able to utilize them to get fresh fruits and vegetables from local farmers. For every dollar spent on SNAP\, we can match it up to $30 per visit.\nThere are many ways to get involved! Sign up to volunteer or receive farmer training opportunities. You can also\, apply to be a vendor or host a program.\nDetails and information can be found at: www.FOCFarmersMarket.org
URL:https://dallasantiwar.org/index.php/event/for-oak-cliffs-farmers-market/
LOCATION:For Oak Cliff\, 4418 S Marsalis Ave\, Dallas\, TX 75216\, DALLAS\, TX\, 75216\, United States
END:VEVENT
BEGIN:VEVENT
DTSTART;TZID=America/Chicago:20221021T163000
DTEND;TZID=America/Chicago:20221021T173000
DTSTAMP:20260420T141125
CREATED:20221012T191325Z
LAST-MODIFIED:20221020T040738Z
UID:365-1666369800-1666373400@dallasantiwar.org
SUMMARY:Dallas says: NO to NUKES! END ENDLESS WAR!
DESCRIPTION:North Texans will answer Defuse Nuclear War’s call to action and join cities across the country to say NO TO NUKES\, as well as United Anti-War Coalition’s call for an “October Month of Action” to STOP U.S. WARS. Join us for a rally and banner wave to remind the public of the sharply increased danger of nuclear war and the need to DE-ESCALATE TENSIONS between nuclear powers and end endless wars…for the People and the Planet!\nWHEN: Sunday\, Oct 16\, 3:00 – 4:30pm\nWHERE: Dallas City Hall\, 1500 Marilla St\nWAR IS NOT HEALTHY FOR CHILDREN AND OTHER LIVING THINGS!\nInitiated by the Dallas Anti-War Committee and the DPJC\n*Before leaving for the event\, please check this page for updates or in case of changes/cancellation.
URL:https://dallasantiwar.org/index.php/event/dallas-says-no-to-nukes-end-endless-war/
LOCATION:Grassy Knoll\, 413 Elm St\, Dallas\, TX\, 75202\, United States
END:VEVENT
BEGIN:VEVENT
DTSTART;TZID=America/Chicago:20221021T173000
DTEND;TZID=America/Chicago:20221021T190000
DTSTAMP:20260420T141125
CREATED:20221021T223054Z
LAST-MODIFIED:20221021T223054Z
UID:408-1666373400-1666378800@dallasantiwar.org
SUMMARY:Friend to Friend Texting Party
DESCRIPTION:Reclaim your power by helping to elect progressive candidates. TOP Members\, Supporters\, and Community Leaders help turnout voters for this upcoming election and secure votes for our progressive candidates. \n 
URL:https://dallasantiwar.org/index.php/event/friend-to-friend-texting-party/
LOCATION:S Zarzamora St\, San Antonio\, TX 78224\, United States\, S Zarzamora St\, San Antonio\, TX\, 78224\, United States
END:VEVENT
BEGIN:VEVENT
DTSTART;TZID=America/Chicago:20221021T190000
DTEND;TZID=America/Chicago:20221021T210000
DTSTAMP:20260420T141125
CREATED:20221021T202255Z
LAST-MODIFIED:20221021T202255Z
UID:377-1666378800-1666386000@dallasantiwar.org
SUMMARY:Working for Palestine in the US
DESCRIPTION:Join us on Friday\, October 21st @ 7PM to learn more about our work for Palestine in the US\, featuring Dr. Osama Abuirshaid\, AMP’s Executive Director.
URL:https://dallasantiwar.org/index.php/event/working-for-palestine-in-the-us/
LOCATION:North Austin Muslim Community Center\, N Lamar Blvd\, Austin\, TX\, 78758\, United States
ORGANIZER;CN="American Muslims for Palestine":MAILTO:koestline@gmail.com
END:VEVENT
BEGIN:VEVENT
DTSTART;TZID=America/Chicago:20221022T090000
DTEND;TZID=America/Chicago:20221022T150000
DTSTAMP:20260420T141125
CREATED:20221021T222442Z
LAST-MODIFIED:20221021T222514Z
UID:404-1666429200-1666450800@dallasantiwar.org
SUMMARY:Taller de Ciudadanía Gratuito | Free Citizenship Workshop
DESCRIPTION:Le brindaremos asistencia legal a los residentes permanentes legales\, que cumplan con los requisitos de naturalización\, completaremos su solicitud de ciudadanía sin costo alguno y le entregaremos material de estudio sin costo alguno. Sábado 22 de Octubre del 2022 en La Preparatoria Justin F. Kimball\n3606 S Westmoreland Rd\nDallas\, TX 75233\nComenzando a las 9:00 a.m.\nDescargue y llene el documento de ingreso haciendo click en este enlace. https://acrobat.adobe.com/link/track?uri=urn:aaid:scds:US:ca6a590c-3e3a-4ee0-8fc7-772a692f3f7d#pageNum=1\n¿Le gustaría ser voluntario en este evento? ¡inscríbete aquí! https://docs.google.com/…/1FAIpQLSdvS2IJ7tAO2y…/viewform\n\nWe’ll provide legal advice\, completion of the citizenship applications\, and study material at no cost. Saturday\, October 22\, 2022.\nJustin F. Kimball High school\n3606 S Westmoreland Rd\nDallas\, TX 75233\nStarting at 9:00 a.m.\nDownload and complete the intake form by clicking on this link. https://acrobat.adobe.com/link/track?uri=urn:aaid:scds:US:ca6a590c-3e3a-4ee0-8fc7-772a692f3f7d#pageNum=1\nWould you like to volunteer for this event? If so\, please sign up here. https://docs.google.com/…/1FAIpQLSdvS2IJ7tAO2y…/viewform\n1-888-793-2182 Ext. 201\nhttp://www.proyectoinmigrante.org
URL:https://dallasantiwar.org/index.php/event/taller-de-ciudadania-gratuito-free-citizenship-workshop/
LOCATION:Justin F. Kimball High School\, 3606 S Westmoreland Rd\,\, Dallas\, TX\, 75233\, United States
ORGANIZER;CN="Proyecto Inmigrante ICS%2C Inc.":MAILTO:media.dept@proyectoinmigrante.org
END:VEVENT
BEGIN:VEVENT
DTSTART;TZID=America/Chicago:20221022T130000
DTEND;TZID=America/Chicago:20221022T170000
DTSTAMP:20260420T141125
CREATED:20221021T223348Z
LAST-MODIFIED:20221021T223512Z
UID:412-1666443600-1666458000@dallasantiwar.org
SUMMARY:San Antonio Citywide Meeting
DESCRIPTION:San Antonio Citywide Meeting. \n 
URL:https://dallasantiwar.org/index.php/event/san-antonio-citywide-meeting/
LOCATION:700 S Zarzamora St\, San Antonio\, TX 78207-5256\, United States\, 700 S Zarzamora St\, San Antonio\, TX\, 78207-5256\, United States
END:VEVENT
BEGIN:VEVENT
DTSTART;TZID=America/Chicago:20221023T170000
DTEND;TZID=America/Chicago:20221023T190000
DTSTAMP:20260420T141125
CREATED:20221021T205106Z
LAST-MODIFIED:20221021T205106Z
UID:400-1666544400-1666551600@dallasantiwar.org
SUMMARY:Protest for removal of CSA statue (please read description)
DESCRIPTION:Join us at 5:30 as we continue to protest for the removal of the Confederate statue on the Cooke County lawn.\nCommissioners have refused to take action on this item even though they acknowledge the words inscribed are a disgrace to our community.\nIn October of 1862\, the confederacy launched an attack and the greatest massacre occurred. This statue has been a spit in the face to the descendants who live in the community to this day.\nThis is not cancel culture or trying to remove history. This is about making right of a wrong that happened over 100 years ago. The confederacy launched an attack on our city\, yet honored at the county courthouse. The confederacy also said in its cornerstone speech that the black man was lesser to the white man. This was their foundation. It speaks so loudly by the words inscribed. “No nation rose so white and fair\, none fell so pure of crime”. This is also about having those who have wronged our community and the black human race not be memorized as great hero’s.\nAsk your commissioners\, and join us in the fight\, to remove the confederate participation trophy from our lawn.
URL:https://dallasantiwar.org/index.php/event/protest-for-removal-of-csa-statue-please-read-description/
LOCATION:Cooke County Courthouse\, 101 S Dixon St\, Gainesville\, TX\, 76240\, United States
END:VEVENT
BEGIN:VEVENT
DTSTART;TZID=America/Chicago:20221030T090000
DTEND;TZID=America/Chicago:20221030T170000
DTSTAMP:20260420T141125
CREATED:20221021T204143Z
LAST-MODIFIED:20221021T204143Z
UID:393-1667120400-1667149200@dallasantiwar.org
SUMMARY:Court Support against Aaron Dean- Demand for Justice for Atatiana Jefferson
DESCRIPTION:We demand immediate justice for Atatiana Jefferson who was viciously murdered by former police officer Aaron Dean. \n 
URL:https://dallasantiwar.org/index.php/event/court-support-against-aaron-dean-demand-for-justice-for-atatiana-jefferson/
END:VEVENT
BEGIN:VEVENT
DTSTART;TZID=America/Chicago:20221105T170000
DTEND;TZID=America/Chicago:20221105T210000
DTSTAMP:20260420T141125
CREATED:20221020T044120Z
LAST-MODIFIED:20221020T044120Z
UID:374-1667667600-1667682000@dallasantiwar.org
SUMMARY:'A Rustling of Leaves' Film Showing and Discussion
DESCRIPTION:Come join the Dallas Anti-War Committee on Saturday\, November 5th at 5 pm at Pan-African Connection to watch and discuss the film ‘A Rustling of Leaves: Inside the Phillipine Revolution’\, a film about the ongoing Phillipine Revolution against American Imperialism and exploitation of peasantry by big landowners.
URL:https://dallasantiwar.org/index.php/event/a-rustling-of-leaves-film-showing-and-discussion/
LOCATION:Pan African Connection\, 4466 S. Marsalis Ave\, Dallas\, TX\, 75216\, United States
END:VEVENT
BEGIN:VEVENT
DTSTART;TZID=America/Chicago:20221109T170000
DTEND;TZID=America/Chicago:20221109T183000
DTSTAMP:20260420T141125
CREATED:20221101T224011Z
LAST-MODIFIED:20221101T224011Z
UID:422-1668013200-1668018600@dallasantiwar.org
SUMMARY:Guest Speaker from Venezuela: Dozthor Zurlent
DESCRIPTION:Join Progressive Student Union to welcome Dozthor Zurlent\, a former advisor to President Hugo Chavez and an activist who supports many liberation movements across Latin and Central America. Mr Zurlent has written many articles and essays for many publications\, and has appeared on Telesur\, ANTV\, VTV\, and La Radio del Sur. For nearly 10 years\, he produced and directed radio programs on Venezuelan National Radio and YVKE Mundial Los Andes Radio.  Dozthor will speak on his experiences in political struggle\, as well as the need for the US to end its sanctions on Venezuela and to free Alex Saab\, a Venezuelan diplomat being illegally held by the US in Miami.  Meet Dozthor Zurlent in University Hall room 108\, at the University of Texas at Arlington University Hall Arlington\, TX 76010
URL:https://dallasantiwar.org/index.php/event/guest-speaker-from-venezuela-dozthor-zurlent/
LOCATION:University of Texas At Arlington\, 416 College St\,\, Grand Prairie\, TX\, 75050\, United States
END:VEVENT
BEGIN:VEVENT
DTSTART;TZID=America/Chicago:20221109T180000
DTEND;TZID=America/Chicago:20221109T190000
DTSTAMP:20260420T141125
CREATED:20221021T203744Z
LAST-MODIFIED:20221021T203744Z
UID:389-1668016800-1668020400@dallasantiwar.org
SUMMARY:IPTX Book Club - Barred: Why the Innocent Can't Get Out of Prison
DESCRIPTION:Join us for an online discussion with Daniel Medwed\, author of “Barred: Why the Innocent Can’t Get Out of Prison.”\nIn Barred\, legal scholar Daniel S. Medwed argues that our justice system’s stringent procedural rules are largely to blame for the ongoing punishment of the innocent.\nOffering clear explanations of legal procedures alongside stories of their devastating impact\, Barred exposes how the system is stacked against the innocent and makes a powerful call for change\n\nhttps://www.facebook.com/events/473771751202823
URL:https://dallasantiwar.org/index.php/event/iptx-book-club-barred-why-the-innocent-cant-get-out-of-prison/
LOCATION:Online
END:VEVENT
BEGIN:VEVENT
DTSTART;TZID=America/Chicago:20221113T190000
DTEND;TZID=America/Chicago:20221113T210000
DTSTAMP:20260420T141125
CREATED:20221114T024300Z
LAST-MODIFIED:20221114T024300Z
UID:430-1668366000-1668373200@dallasantiwar.org
SUMMARY:Panel Discussion on Haiti and the History of U.S. Imperialism
DESCRIPTION:Cassandra Swart of the Dallas Anti-War Committee discussing the history of US Imperialism against Haiti.  Judith Mirkinson of the Haiti Action Committee discussing the ongoing situation in Haiti and the ongoing US intervention.  Delilah Pierre of the Tallahassee Community Action Committee discussing the effects of the ongoing situation and intervention on the Haitian community in the United States.\nAfter the presentations\, a Q&A will be held answering questions related to the history of US imperialism against Haiti and the ongoing intervention efforts of the United States in Haiti.
URL:https://dallasantiwar.org/index.php/event/panel-discussion-on-haiti-and-the-history-of-u-s-imperialism/
LOCATION:Online
END:VEVENT
BEGIN:VEVENT
DTSTART;TZID=America/Chicago:20221116T153000
DTEND;TZID=America/Chicago:20221116T183000
DTSTAMP:20260420T141125
CREATED:20221101T224451Z
LAST-MODIFIED:20221101T224451Z
UID:426-1668612600-1668623400@dallasantiwar.org
SUMMARY:Dallas Says No to Intervention Against Haiti!
DESCRIPTION:Join Dallas Anti-War Committee to protest a meeting of American officials and others with the National Endowment for Democracy and other affiliated groups\, instigating US invasions of other countries\, including Haiti. Come and help us tell them war isn’t welcome in Dallas and Haiti deserves peace and sovereignty! \n 
URL:https://dallasantiwar.org/index.php/event/dallas-says-no-to-intervention-against-haiti/
LOCATION:Mockingbird Lane 175 Overpass\, 5319 E Mockingbird Ln\, Dallas\, TX\, 75206\, United States
END:VEVENT
BEGIN:VEVENT
DTSTART;TZID=America/Chicago:20221203T150000
DTEND;TZID=America/Chicago:20221203T170000
DTSTAMP:20260420T141125
CREATED:20221021T204711Z
LAST-MODIFIED:20221021T204711Z
UID:396-1670079600-1670086800@dallasantiwar.org
SUMMARY:Not My Son's 3rd Annual Gala
DESCRIPTION:Join Not My Son for our 3rd Annual Gala. \n 
URL:https://dallasantiwar.org/index.php/event/not-my-sons-3rd-annual-gala/
LOCATION:High Point Center\, 12225 Greenville Ave Ste 123\, Dallas\, TX\, 75248\, United States
END:VEVENT
BEGIN:VEVENT
DTSTART;TZID=America/Chicago:20230304T113000
DTEND;TZID=America/Chicago:20230304T170000
DTSTAMP:20260420T141125
CREATED:20230221T222543Z
LAST-MODIFIED:20230221T222839Z
UID:493-1677929400-1677949200@dallasantiwar.org
SUMMARY:International Women’s Day March: Defend Reproductive Rights! Fight for Women’s Rights!
DESCRIPTION:Join together to celebrate International Women’s Day by demanding rights for women and reproductive rights for all!\nThe overturning of Roe v. Wade was an assault on women’s and reproductive rights. We will rally with organizers fighting for access to healthcare and say with one voice that we will FIGHT for the rights of women and the reproductive rights of all people.\nThe rally will begin at 11:30 am at Civic Garden park with speakers from many organizations\, followed by a march through downtown Dallas.\nSponsoring organizations include:\nThe Afiya Center\nFreedom Road Socialist Organization\nNational Alliance Against Racist and Political Repression: Dallas\nDallas Coalition for Human Rights in the Philippines\nLa Frontera Nos Cruzo\nDallas Anti-War Committee\nDallas Peace and Justice Center\nCommunist Party USA\nParty for Socialism and Liberation\nProgressive Student Union at UTA\nMalaya Movement Texas
URL:https://dallasantiwar.org/index.php/event/international-womens-day-march-defend-reproductive-rights-fight-for-womens-rights/
LOCATION:Civic Gardens\, 1014 Main St\, Dallas\, Texas
END:VEVENT
BEGIN:VEVENT
DTSTART;TZID=America/Chicago:20240204T180000
DTEND;TZID=America/Chicago:20240204T180000
DTSTAMP:20260420T141125
CREATED:20240124T195644Z
LAST-MODIFIED:20240124T200545Z
UID:534-1707069600-1707069600@dallasantiwar.org
SUMMARY:Philippine Labor Fights Back!
DESCRIPTION:From the International Coalition for Human Rights in the Philippines (ICHRP):\n\n\n\n\n\n\n\nJoin us for a webinar on US-backed counterinsurgency in the Philippines and its impacts on the Philippine labor movement and workers struggles under the Marcos Jr. Regime. We will be joined by speakers from Kilusang Mayo Uno\, a labor center in the Philippines promoting genuine\, militant and patriotic trade unionism.\n\n Sunday\, February 4th\n 4:00pm PT | 6:00pm CT | 7:00pm ET\n Register: tinyurl.com/phlaborwebinar\n\n\n\n\n\n\n\n\nRepression against workers organizing in the Philippines continues to heighten under President of the Philippines Ferdinand Marcos Jr. A joint report published by the International Labor Organization and Trade Unions in the Philippines highlights recorded violations of international labor standards and rights including cases of state interference with the right to self organize through extrajudicial killings\, forced disappearances\, illegal arrest and detention\, threats and intimidation\, and terror tagging of labor leaders. While workers in both the US and the Philippines are suffering from low wages and poverty\, unstable employment\, understaffing\, inhumane working conditions and attacks on the right to unionize\, we must strengthen our solidarity between the workers of our countries and our shared fight for workers rights across the world!
URL:https://dallasantiwar.org/index.php/event/philippine-labor-fights-back/
CATEGORIES:Online
ATTACH;FMTTYPE=image/jpeg:https://dallasantiwar.org/wp-content/uploads/2024/01/phillipines-webinar.jpg
END:VEVENT
END:VCALENDAR