BEGIN:VCALENDAR
VERSION:2.0
PRODID:-// - ECPv6.8.3//NONSGML v1.0//EN
CALSCALE:GREGORIAN
METHOD:PUBLISH
X-ORIGINAL-URL:https://dallasantiwar.org
X-WR-CALDESC:Events for 
REFRESH-INTERVAL;VALUE=DURATION:PT1H
X-Robots-Tag:noindex
X-PUBLISHED-TTL:PT1H
BEGIN:VTIMEZONE
TZID:UTC
BEGIN:STANDARD
TZOFFSETFROM:+0000
TZOFFSETTO:+0000
TZNAME:UTC
DTSTART:20210101T000000
END:STANDARD
END:VTIMEZONE
BEGIN:VEVENT
DTSTART;TZID=UTC:20210717T170000
DTEND;TZID=UTC:20210717T193000
DTSTAMP:20260420T191455
CREATED:20210715T063922Z
LAST-MODIFIED:20210715T063922Z
UID:92-1626541200-1626550200@dallasantiwar.org
SUMMARY:US Hands Off Cuba Seminar
DESCRIPTION:Please join us as we stand in solidarity with the Cuban people and their revolution as they struggle against the ongoing western imperialist campaign to undermine their sovereignty\, and the 60 year illegal blockade and embargo that has restricted their access to necessary resources.\n\n\nThe event will be in person at Pan African Connection in Glendale shopping center. This Saturday July 17th\, starts at 5pm cst. It will also be live streamed on Facebook live. We will have speakers from The Black Royal Family\, Guerrilla Mainframe\, Party for Socialism and Liberation Dallas/Ft Worth – PSL DFW\, and Diaspora United. We are looking forward to seeing you there. Hasta la victoria siempre!
URL:https://dallasantiwar.org/index.php/event/us-hands-off-cuba-seminar/
LOCATION:Pan African Connection\, 4466 S. Marsalis Ave\, Dallas\, TX\, 75216\, United States
END:VEVENT
END:VCALENDAR